BEGIN:VCALENDAR
VERSION:2.0
PRODID:-//Griffith Youth Baseball - Cal Ripken - ECPv6.15.17//NONSGML v1.0//EN
CALSCALE:GREGORIAN
METHOD:PUBLISH
X-WR-CALNAME:Griffith Youth Baseball - Cal Ripken
X-ORIGINAL-URL:https://www.griffithyouthbaseball.org
X-WR-CALDESC:Events for Griffith Youth Baseball - Cal Ripken
REFRESH-INTERVAL;VALUE=DURATION:PT1H
X-Robots-Tag:noindex
X-PUBLISHED-TTL:PT1H
BEGIN:VTIMEZONE
TZID:America/Chicago
BEGIN:DAYLIGHT
TZOFFSETFROM:-0600
TZOFFSETTO:-0500
TZNAME:CDT
DTSTART:20250309T080000
END:DAYLIGHT
BEGIN:STANDARD
TZOFFSETFROM:-0500
TZOFFSETTO:-0600
TZNAME:CST
DTSTART:20251102T070000
END:STANDARD
BEGIN:DAYLIGHT
TZOFFSETFROM:-0600
TZOFFSETTO:-0500
TZNAME:CDT
DTSTART:20260308T080000
END:DAYLIGHT
BEGIN:STANDARD
TZOFFSETFROM:-0500
TZOFFSETTO:-0600
TZNAME:CST
DTSTART:20261101T070000
END:STANDARD
BEGIN:DAYLIGHT
TZOFFSETFROM:-0600
TZOFFSETTO:-0500
TZNAME:CDT
DTSTART:20270314T080000
END:DAYLIGHT
BEGIN:STANDARD
TZOFFSETFROM:-0500
TZOFFSETTO:-0600
TZNAME:CST
DTSTART:20271107T070000
END:STANDARD
END:VTIMEZONE
BEGIN:VEVENT
DTSTART;TZID=America/Chicago:20260420T170000
DTEND;TZID=America/Chicago:20260420T190000
DTSTAMP:20260420T191358
CREATED:20260414T181149Z
LAST-MODIFIED:20260414T181149Z
UID:6516-1776704400-1776711600@www.griffithyouthbaseball.org
SUMMARY:Popcorn Fundraiser Due
DESCRIPTION:Order drop off information:\nMonday 4/20\n\n\nBabe Ruth Concession Stand\n\n\n5pm to 7pm\n\n\n***Money CANNOT be turned into a team parent\, parents must bring it up themselves. This is in case there are money shortages (we dont need that blame falling on you).
URL:https://www.griffithyouthbaseball.org/event/popcorn-fundraiser-due-2/
LOCATION:Babe Ruth Field
CATEGORIES:Fundraisers
END:VEVENT
END:VCALENDAR