BEGIN:VCALENDAR
VERSION:2.0
PRODID:-//Griffith Youth Baseball - Cal Ripken - ECPv6.15.17//NONSGML v1.0//EN
CALSCALE:GREGORIAN
METHOD:PUBLISH
X-ORIGINAL-URL:https://www.griffithyouthbaseball.org
X-WR-CALDESC:Events for Griffith Youth Baseball - Cal Ripken
REFRESH-INTERVAL;VALUE=DURATION:PT1H
X-Robots-Tag:noindex
X-PUBLISHED-TTL:PT1H
BEGIN:VTIMEZONE
TZID:America/Chicago
BEGIN:DAYLIGHT
TZOFFSETFROM:-0600
TZOFFSETTO:-0500
TZNAME:CDT
DTSTART:20230312T080000
END:DAYLIGHT
BEGIN:STANDARD
TZOFFSETFROM:-0500
TZOFFSETTO:-0600
TZNAME:CST
DTSTART:20231105T070000
END:STANDARD
BEGIN:DAYLIGHT
TZOFFSETFROM:-0600
TZOFFSETTO:-0500
TZNAME:CDT
DTSTART:20240310T080000
END:DAYLIGHT
BEGIN:STANDARD
TZOFFSETFROM:-0500
TZOFFSETTO:-0600
TZNAME:CST
DTSTART:20241103T070000
END:STANDARD
BEGIN:DAYLIGHT
TZOFFSETFROM:-0600
TZOFFSETTO:-0500
TZNAME:CDT
DTSTART:20250309T080000
END:DAYLIGHT
BEGIN:STANDARD
TZOFFSETFROM:-0500
TZOFFSETTO:-0600
TZNAME:CST
DTSTART:20251102T070000
END:STANDARD
END:VTIMEZONE
BEGIN:VEVENT
DTSTART;VALUE=DATE:20240403
DTEND;VALUE=DATE:20240416
DTSTAMP:20260421T071136
CREATED:20240403T165447Z
LAST-MODIFIED:20240403T165608Z
UID:5656-1712102400-1713225599@www.griffithyouthbaseball.org
SUMMARY:Spirit Wear Store Open For Orders
DESCRIPTION:Our Spirit Wear store is open!\nThe store will close on April 15th so please get your orders in right away so you don’t miss out! Completed orders will be delivered to the field and we will post pickup days when they are in. \nORDER HERE ? https://gybspring2024.itemorder.com
URL:https://www.griffithyouthbaseball.org/event/spirit-wear-store-open-for-orders/
CATEGORIES:Fundraisers,League Events
ATTACH;FMTTYPE=image/jpeg:https://www.griffithyouthbaseball.org/wp-content/uploads/2024/04/spirit-wear-2024-flyer.jpg
END:VEVENT
END:VCALENDAR