BEGIN:VCALENDAR
VERSION:2.0
PRODID:-//Griffith Youth Baseball - Cal Ripken - ECPv6.15.17//NONSGML v1.0//EN
CALSCALE:GREGORIAN
METHOD:PUBLISH
X-WR-CALNAME:Griffith Youth Baseball - Cal Ripken
X-ORIGINAL-URL:https://www.griffithyouthbaseball.org
X-WR-CALDESC:Events for Griffith Youth Baseball - Cal Ripken
REFRESH-INTERVAL;VALUE=DURATION:PT1H
X-Robots-Tag:noindex
X-PUBLISHED-TTL:PT1H
BEGIN:VTIMEZONE
TZID:America/Chicago
BEGIN:DAYLIGHT
TZOFFSETFROM:-0600
TZOFFSETTO:-0500
TZNAME:CDT
DTSTART:20230312T080000
END:DAYLIGHT
BEGIN:STANDARD
TZOFFSETFROM:-0500
TZOFFSETTO:-0600
TZNAME:CST
DTSTART:20231105T070000
END:STANDARD
BEGIN:DAYLIGHT
TZOFFSETFROM:-0600
TZOFFSETTO:-0500
TZNAME:CDT
DTSTART:20240310T080000
END:DAYLIGHT
BEGIN:STANDARD
TZOFFSETFROM:-0500
TZOFFSETTO:-0600
TZNAME:CST
DTSTART:20241103T070000
END:STANDARD
BEGIN:DAYLIGHT
TZOFFSETFROM:-0600
TZOFFSETTO:-0500
TZNAME:CDT
DTSTART:20250309T080000
END:DAYLIGHT
BEGIN:STANDARD
TZOFFSETFROM:-0500
TZOFFSETTO:-0600
TZNAME:CST
DTSTART:20251102T070000
END:STANDARD
END:VTIMEZONE
BEGIN:VEVENT
DTSTART;VALUE=DATE:20240420
DTEND;VALUE=DATE:20240421
DTSTAMP:20260421T071101
CREATED:20240410T160559Z
LAST-MODIFIED:20240410T160559Z
UID:5665-1713571200-1713657599@www.griffithyouthbaseball.org
SUMMARY:Field Clean Up Day
DESCRIPTION:Our second Clean Up Day is April 20th!\n\nParents and players\, we’ll see you bright and early at 8am. We’ll need people at the St. Mary’s fields and also at the Central Park fields and will work until everything is done. We need the fields looking good for opening day!\n\nWeeding\, picking up garbage\, cleaning out dugouts\, spreading limestone\, weeding around all the fencing\, working heavy equipment\, and more\, will all need to be done. If you have any weed-whackers\, rakes\, leaf blowers\, or anything else you think would help\, please bring it. Please head over to a field to look for someone to see where you’re needed most.
URL:https://www.griffithyouthbaseball.org/event/field-clean-up-day/
LOCATION:GYB Fields
CATEGORIES:League Events,Player Events
END:VEVENT
END:VCALENDAR